BEGIN:VCALENDAR
PRODID:-//eluceo/ical//2.0/EN
VERSION:2.0
CALSCALE:GREGORIAN
BEGIN:VEVENT
UID:f630e3500cf660403d410d5a9aebb8dd
DTSTAMP:20260421T105946Z
SUMMARY:European Higher Education Fair (EHEF) Indonesia 2025
DTSTART:20251106T152600
DTEND:20251109T103900
END:VEVENT
END:VCALENDAR
